Workbook
Name Excel_BuiltIn__FilterDatabase: All!$A$1:$C$134
Name Excel_BuiltIn_Print_Area: Entry!$A$1:$I$38
Name Excel_BuiltIn_Print_Area: Entry!$A$1:$H$37
Name Print_Area_0: Entry!$A$1:$I$38,Entry!$A$1:$H$37
Name top: Teams!$BX$69

Sheet Entry
A1: SOCCER COMPETITION ENTRY FORM
A3: ENTRY NAME
A4: EMAIL ADDRESS
A5: OTHER CONTACT DETAILS
A6: INITIALS (optional)
A8: Fill in the three digit code that corresponds to your selected team. Refer to the team listing supplied with the entry form.
A10: ENGLISH LEAGUES:
B11: Premier | D11: Champ | F11: League 1 | H11: League 2
A12: Winner (4 points)
A13: Other teams in the
A14: top 4 (in any order)
A15: get 2 points each.
A16: =IF(COUNTIF(Check!B11:'Check'!I21,"**ERROR**")>0,"**ERRORS IN ENGLISH LEAGUES**",IF(COUNTIF(Check!B11:'Check'!I21,"**DUPLICATES**")>0,"**DUPLICATES IN ENGLISH LEAGUES",""))
A17: Other teams in the
A18: bottom 4 (in any order)
A19: get 2 points each.
A20: Bottom (3 points)
A22: SCOTTISH LEAGUES:
B23: Premier | D23: Champ | F23: League 1 | H23: League 2
A24: Winner (4 points)
A26: get 2 points each.
A27: =IF(COUNTIF(Check!B23:'Check'!I30,"**ERROR**")>0,"**ERRORS IN SCOTTISH LEAGUES**",IF(COUNTIF(Check!B23:'Check'!I30,"**DUPLICATES**")>0,"**DUPLICATES IN SCOTTISH LEAGUES",""))
A28: Other teams in bottom 3
A29: get 2 points each.
A30: Bottom (3 points)
A32: CUPS | B32: English Cups | F32: Scottish Cups
A33: =IF(COUNTIF(Check!B33:'Check'!I37,"**ERROR**")>0,"**ERRORS IN CUPS**",IF(COUNTIF(Check!B33:'Check'!I37,"**DUPLICATES**")>0,"**DUPLICATES IN CUPS","")) | B33: F.A.Cup | D33: League Cup | F33: F.A.Cup | H33: League Cup
A34: Winner (4 points)
A35: Finalist (3 points)
A36: Semi-finalists
A37: 2 points each.

Sheet Teams
A1: PREMIER LEAGUE | C1: Odds | E1: LEAGUE ONE | G1: Odds
A2: 11 | B2: Arsenal | C2: 9/4 | E2: 22 | F2: Barnsley | G2: 25
A3: 12 | B3: Aston Villa | C3: 66 | E3: 23 | F3: Blackpool | G3: 12
A4: 32 | B4: Brentford | C4: 1000 | E4: 30 | F4: Bradford City | G4: 33
A5: 33 | B5: Brighton & Hove Albion | C5: 150 | E5: 41 | F5: Bolton Wanderers | G5: 11
A6: 39 | B6: Burnley | C6: 1500 | E6: 44 | F6: Burton Albion | G6: 80
A7: 40 | B7: Bournemouth | C7: 350 | E7: 61 | F7: Cardiff City | G7: 8
A8: 64 | B8: Chelsea | C8: 8 | E8: 87 | F8: Doncaster Rovers | G8: 40
A9: 72 | B9: Crystal Palace | C9: 50 | E9: 129 | F9: Exeter City | G9: 100
A10: 125 | B10: Everton | C10: 500 | E10: 178 | F10: Huddersfield Town | G10: 7
A11: 138 | B11: Fulham | C11: 750 | E11: 238 | F11: Lincoln City | G11: 40
A12: 236 | B12: Leeds United | C12: 750 | E12: 250 | F12: Luton Town | G12: 7/2
A13: 240 | B13: Liverpool | C13: 2 | E13: 260 | F13: Mansfield Town | G13: 50
... A21: 385 | B21: Wolverhampton Wanderers | C21: 1000 | E21: 357 | F21: Rotherham United | G21: 28
E22: 379 | F22: Stevenage | G22: 66
E23: 382 | F23: Wigan Athletic | G23: 25
E24: 386 | F24: AFC Wimbledon | G24: 125
E25: 390 | F25: Wycombe Wanderers | G25: 20
A27: CHAMPIONSHIP | E27: LEAGUE TWO
A28: 28 | B28: Blackburn Rovers | C28: 50 | E28: 2 | F28: Accrington Stanley | G28: 66
A29: 29 | B29: Birmingham City | C29: 7 | E29: 21 | F29: Barnet | G29: 20
A30: 35 | B30: Bristol City | C30: 25 | E30: 20 | F30: Barrow | G30: 33
A31: 63 | B31: Charlton Athletic | C31: 80 | E31: 36 | F31: Bristol Rovers | G31: 12
A32: 69 | B32: Coventry City | C32: 12 | E32: 37 | F32: Bromley | G32: 50
A33: 84 | B33: Derby County | C33: 40 | E33: 55 | F33: Cambridge United | G33: 29
A34: 179 | B34: Hull City | C34: 50 | E34: 58 | F34: Cheltenham Town | G34: 50
A35: 200 | B35: Ipswich Town | C35: 4 | E35: 66 | F35: Chesterfield | G35: 15/2
A36: 235 | B36: Leicester City | C36: 12 | E36: 68 | F36: Colchester United | G36: 20
A37: 275 | B37: Middlesbrough | C37: 20 | E37: 71 | F37: Crewe Alexandra | G37: 28
A38: 276 | B38: Millwall | C38: 33 | E38: 74 | F38: Crawley Town | G38: 25
A39: 293 | B39: Norwich City | C39: 16 | E39: 131 | F39: Fleetwood Town | G39: 33
... A51: 388 | B51: Wrexham | C51: 25 | E51: 384 | F51: Milton Keynes Dons | G51: 7/2
A54: SCOTTISH PREMIER | E54: SCOTTISH LEAGUE ONE
A55: 1 | B55: Aberdeen | C55: 80 | E55: 9 | F55: Alloa Athletic | G55: 10
A56: 60 | B56: Celtic | C56: 2/5 | E56: 67 | F56: Cove Rangers | G56: 8
A57: 80 | B57: Dundee | C57: 750 | E57: 114 | F57: East Fife | G57: 25
A58: 81 | B58: Dundee United | C58: 250 | E58: 174 | F58: Hamilton Academical | G58: 6
A59: 130 | B59: Falkirk | C59: 1000 | E59: 210 | F59: Inverness Caled. Thistle | G59: 6/4
A60: 170 | B60: Heart of Midlothian | C60: 25 | E60: 220 | F60: Kelty Hearts | G60: 40
A61: 177 | B61: Hibernian | C61: 66 | E61: 277 | F61: Montrose | G61: 16
A62: 230 | B62: Kilmarnock | C62: 500 | E62: 312 | F62: Peterhead | G62: 16
A63: 244 | B63: Livingston | C63: 1000 | E63: 332 | F63: Queen of the South | G63: 4
A64: 280 | B64: Motherwell | C64: 750 | E64: 358 | F64: Stenhousemuir | G64: 16
A65: 351 | B65: Rangers | C65: 2
A66: 372 | B66: St. Mirren | C66: 500
A68: SCOTTISH CHAMPIONSHIP | E68: SCOTTISH LEAGUE TWO
A69: 3 | B69: Airdrieonians | C69: 18 | E69: 7 | F69: Annan Athletic | G69: 12
A70: 10 | B70: Arbroath | C70: 40 | E70: 73 | F70: Clyde | G70: 25
A71: 15 | B71: Ayr United | C71: 10 | E71: 98 | F71: Dumbarton | G71: 14
A72: 93 | B72: Dunfermline Athletic | C72: 9/2 | E72: 108 | F72: East Kilbride | G72: 6/5
A73: 148 | B73: Greenock Morton | C73: 50 | E73: 118 | F73: Edinburgh City | G73: 7/2
A74: 310 | B74: Partick Thistle | C74: 10 | E74: 120 | F74: Elgin City | G74: 13/2
A75: 330 | B75: Queen's Park | C75: 33 | E75: 133 | F75: Forfar Athletic | G75: 11/2
A76: 350 | B76: Raith Rovers | C76: 10 | E76: 348 | F76: Spartans | G76: 16
A77: 356 | B77: Ross County | C77: 6/4 | E77: 368 | F77: Stranraer | G77: 40
A78: 367 | B78: St Johnstone | C78: 4 | E78: 371 | F78: Stirling Albion | G78: 8

Sheet Check
A1: SOCCER COMPETITION ENTRY FORM
A3: ENTRY NAME | B3: =IF(Entry!$B$3="","",Entry!$B$3)
A4: EMAIL ADDRESS | B4: =IF(Entry!$B$4="","",Entry!$B$4)
A5: OTHER CONTACT DETAILS | B5: =IF(Entry!$B$5="","",Entry!$B$5)
A6: INITIALS | B6: =IF(Entry!$B$6<>"",Entry!B6,IF(Entry!$B$3="","",LEFT(LEFT(B3,FIND(" ",B3,1)),1)&LEFT(SUBSTITUTE(B3,LEFT(B3,FIND(" ",B3,1)),""),1)))
A7: The teams you have selected should show below: | D7: Errors will be highlighted in red.
A9: ENGLISH LEAGUES:
B10: Premier | D10: Champ | F10: League 1 | H10: League 2
A11: Winner (4 points) | B11: =IF(Entry!B12="","",IFERROR(VLOOKUP(Entry!B12,Teams!$A$2:$B$21,2,FALSE()),"**ERROR**")) | C11: =IF(B11="","",IF(COUNTIF(B$11:B$19,B11)>1,1,"")) | D11: =IF(Entry!D12="","",IFERROR(VLOOKUP(Entry!D12,Teams!$A$28:$B$51,2,FALSE()),"**ERROR**")) | E11: =IF(D11="","",IF(COUNTIF(D$11:D$19,D11)>1,1,"")) | F11: =IF(Entry!F12="","",IFERROR(VLOOKUP(Entry!F12,Teams!$E$2:$F$25,2,FALSE()),"**ERROR**")) | G11: =IF(F11="","",IF(COUNTIF(F$11:F$19,F11)>1,1,"")) | H11: =IF(Entry!H12="","",IFERROR(VLOOKUP(Entry!H12,Teams!$E$28:$F$51,2,FALSE()),"Error")) | I11: =IF(H11="","",IF(COUNTIF(H$11:H$19,H11)>1,1,""))
A12: Other teams in the | B12: =IF(Entry!B13="","",IFERROR(VLOOKUP(Entry!B13,Teams!$A$2:$B$21,2,FALSE()),"**ERROR**")) | C12: =IF(B12="","",IF(COUNTIF(B$11:B$19,B12)>1,1,"")) | D12: =IF(Entry!D13="","",IFERROR(VLOOKUP(Entry!D13,Teams!$A$28:$B$51,2,FALSE()),"**ERROR**")) | E12: =IF(D12="","",IF(COUNTIF(D$11:D$19,D12)>1,1,"")) | F12: =IF(Entry!F13="","",IFERROR(VLOOKUP(Entry!F13,Teams!$E$2:$F$25,2,FALSE()),"**ERROR**")) | G12: =IF(F12="","",IF(COUNTIF(F$11:F$19,F12)>1,1,"")) | H12: =IF(Entry!H13="","",IFERROR(VLOOKUP(Entry!H13,Teams!$E$28:$F$51,2,FALSE()),"Error")) | I12: =IF(H12="","",IF(COUNTIF(H$11:H$19,H12)>1,1,""))
A13: top 4 (in any order) | B13: =IF(Entry!B14="","",IFERROR(VLOOKUP(Entry!B14,Teams!$A$2:$B$21,2,FALSE()),"**ERROR**")) | C13: =IF(B13="","",IF(COUNTIF(B$11:B$19,B13)>1,1,"")) | D13: =IF(Entry!D14="","",IFERROR(VLOOKUP(Entry!D14,Teams!$A$28:$B$51,2,FALSE()),"**ERROR**")) | E13: =IF(D13="","",IF(COUNTIF(D$11:D$19,D13)>1,1,"")) | F13: =IF(Entry!F14="","",IFERROR(VLOOKUP(Entry!F14,Teams!$E$2:$F$25,2,FALSE()),"**ERROR**")) | G13: =IF(F13="","",IF(COUNTIF(F$11:F$19,F13)>1,1,"")) | H13: =IF(Entry!H14="","",IFERROR(VLOOKUP(Entry!H14,Teams!$E$28:$F$51,2,FALSE()),"Error")) | I13: =IF(H13="","",IF(COUNTIF(H$11:H$19,H13)>1,1,""))
A14: get 2 points each. | B14: =IF(Entry!B15="","",IFERROR(VLOOKUP(Entry!B15,Teams!$A$2:$B$21,2,FALSE()),"**ERROR**")) | C14: =IF(B14="","",IF(COUNTIF(B$11:B$19,B14)>1,1,"")) | D14: =IF(Entry!D15="","",IFERROR(VLOOKUP(Entry!D15,Teams!$A$28:$B$51,2,FALSE()),"**ERROR**")) | E14: =IF(D14="","",IF(COUNTIF(D$11:D$19,D14)>1,1,"")) | F14: =IF(Entry!F15="","",IFERROR(VLOOKUP(Entry!F15,Teams!$E$2:$F$25,2,FALSE()),"**ERROR**")) | G14: =IF(F14="","",IF(COUNTIF(F$11:F$19,F14)>1,1,"")) | H14: =IF(Entry!H15="","",IFERROR(VLOOKUP(Entry!H15,Teams!$E$28:$F$51,2,FALSE()),"Error")) | I14: =IF(H14="","",IF(COUNTIF(H$11:H$19,H14)>1,1,""))
A16: Other teams in the | B16: =IF(Entry!B17="","",IFERROR(VLOOKUP(Entry!B17,Teams!$A$2:$B$21,2,FALSE()),"**ERROR**")) | C16: =IF(B16="","",IF(COUNTIF(B$11:B$19,B16)>1,1,"")) | D16: =IF(Entry!D17="","",IFERROR(VLOOKUP(Entry!D17,Teams!$A$28:$B$51,2,FALSE()),"**ERROR**")) | E16: =IF(D16="","",IF(COUNTIF(D$11:D$19,D16)>1,1,"")) | F16: =IF(Entry!F17="","",IFERROR(VLOOKUP(Entry!F17,Teams!$E$2:$F$25,2,FALSE()),"**ERROR**")) | G16: =IF(F16="","",IF(COUNTIF(F$11:F$19,F16)>1,1,"")) | H16: =IF(Entry!H17="","",IFERROR(VLOOKUP(Entry!H17,Teams!$E$28:$F$51,2,FALSE()),"Error")) | I16: =IF(H16="","",IF(COUNTIF(H$11:H$19,H16)>1,1,""))
A17: bottom 4 (in any order) | B17: =IF(Entry!B18="","",IFERROR(VLOOKUP(Entry!B18,Teams!$A$2:$B$21,2,FALSE()),"**ERROR**")) | C17: =IF(B17="","",IF(COUNTIF(B$11:B$19,B17)>1,1,"")) | D17: =IF(Entry!D18="","",IFERROR(VLOOKUP(Entry!D18,Teams!$A$28:$B$51,2,FALSE()),"**ERROR**")) | E17: =IF(D17="","",IF(COUNTIF(D$11:D$19,D17)>1,1,"")) | F17: =IF(Entry!F18="","",IFERROR(VLOOKUP(Entry!F18,Teams!$E$2:$F$25,2,FALSE()),"**ERROR**")) | G17: =IF(F17="","",IF(COUNTIF(F$11:F$19,F17)>1,1,"")) | H17: =IF(Entry!H18="","",IFERROR(VLOOKUP(Entry!H18,Teams!$E$28:$F$51,2,FALSE()),"Error")) | I17: =IF(H17="","",IF(COUNTIF(H$11:H$19,H17)>1,1,""))
A18: get 2 points each. | B18: =IF(Entry!B19="","",IFERROR(VLOOKUP(Entry!B19,Teams!$A$2:$B$21,2,FALSE()),"**ERROR**")) | C18: =IF(B18="","",IF(COUNTIF(B$11:B$19,B18)>1,1,"")) | D18: =IF(Entry!D19="","",IFERROR(VLOOKUP(Entry!D19,Teams!$A$28:$B$51,2,FALSE()),"**ERROR**")) | E18: =IF(D18="","",IF(COUNTIF(D$11:D$19,D18)>1,1,"")) | F18: =IF(Entry!F19="","",IFERROR(VLOOKUP(Entry!F19,Teams!$E$2:$F$25,2,FALSE()),"**ERROR**")) | G18: =IF(F18="","",IF(COUNTIF(F$11:F$19,F18)>1,1,"")) | H18: =IF(Entry!H19="","",IFERROR(VLOOKUP(Entry!H19,Teams!$E$28:$F$51,2,FALSE()),"Error")) | I18: =IF(H18="","",IF(COUNTIF(H$11:H$19,H18)>1,1,""))
A19: Bottom (3 points) | B19: =IF(Entry!B20="","",IFERROR(VLOOKUP(Entry!B20,Teams!$A$2:$B$21,2,FALSE()),"**ERROR**")) | C19: =IF(B19="","",IF(COUNTIF(B$11:B$19,B19)>1,1,"")) | D19: =IF(Entry!D20="","",IFERROR(VLOOKUP(Entry!D20,Teams!$A$28:$B$51,2,FALSE()),"**ERROR**")) | E19: =IF(D19="","",IF(COUNTIF(D$11:D$19,D19)>1,1,"")) | F19: =IF(Entry!F20="","",IFERROR(VLOOKUP(Entry!F20,Teams!$E$2:$F$25,2,FALSE()),"**ERROR**")) | G19: =IF(F19="","",IF(COUNTIF(F$11:F$19,F19)>1,1,"")) | H19: =IF(Entry!H20="","",IFERROR(VLOOKUP(Entry!H20,Teams!$E$28:$F$51,2,FALSE()),"Error")) | I19: =IF(H19="","",IF(COUNTIF(H$11:H$19,H19)>1,1,""))
B20: =IF(SUM(C11:C19)>0,"**DUPLICATES**","") | D20: =IF(SUM(E11:E19)>0,"**DUPLICATES**","") | F20: =IF(SUM(G11:G19)>0,"**DUPLICATES**","") | H20: =IF(SUM(I11:I19)>0,"**DUPLICATES**","")
A21: SCOTTISH LEAGUES:
B22: Premier | D22: Champ | F22: League 1 | H22: League 2
A23: Winner (4 points) | B23: =IF(Entry!B24="","",IFERROR(VLOOKUP(Entry!B24,Teams!$A$55:$B$66,2,FALSE()),"**ERROR**")) | C23: =IF(B23="","",IF(COUNTIF(B$23:B$29,B23)>1,1,"")) | D23: =IF(Entry!D24="","",IFERROR(VLOOKUP(Entry!D24,Teams!$A$69:$B$78,2,FALSE()),"**ERROR**")) | E23: =IF(D23="","",IF(COUNTIF(D$23:D$29,D23)>1,1,"")) | F23: =IF(Entry!F24="","",IFERROR(VLOOKUP(Entry!F24,Teams!$E$55:$F$64,2,FALSE()),"**ERROR**")) | G23: =IF(F23="","",IF(COUNTIF(F$23:F$29,F23)>1,1,"")) | H23: =IF(Entry!H24="","",IFERROR(VLOOKUP(Entry!H24,Teams!$E$69:$F$78,2,FALSE()),"**ERROR**")) | I23: =IF(H23="","",IF(COUNTIF(H$23:H$29,H23)>1,1,""))
A24: Other teams in top 3 | B24: =IF(Entry!B25="","",IFERROR(VLOOKUP(Entry!B25,Teams!$A$55:$B$66,2,FALSE()),"**ERROR**")) | C24: =IF(B24="","",IF(COUNTIF(B$23:B$29,B24)>1,1,"")) | D24: =IF(Entry!D25="","",IFERROR(VLOOKUP(Entry!D25,Teams!$A$69:$B$78,2,FALSE()),"**ERROR**")) | E24: =IF(D24="","",IF(COUNTIF(D$23:D$29,D24)>1,1,"")) | F24: =IF(Entry!F25="","",IFERROR(VLOOKUP(Entry!F25,Teams!$E$55:$F$64,2,FALSE()),"**ERROR**")) | G24: =IF(F24="","",IF(COUNTIF(F$23:F$29,F24)>1,1,"")) | H24: =IF(Entry!H25="","",IFERROR(VLOOKUP(Entry!H25,Teams!$E$69:$F$78,2,FALSE()),"**ERROR**")) | I24: =IF(H24="","",IF(COUNTIF(H$23:H$29,H24)>1,1,""))
A25: get 2 points each. | B25: =IF(Entry!B26="","",IFERROR(VLOOKUP(Entry!B26,Teams!$A$55:$B$66,2,FALSE()),"**ERROR**")) | C25: =IF(B25="","",IF(COUNTIF(B$23:B$29,B25)>1,1,"")) | D25: =IF(Entry!D26="","",IFERROR(VLOOKUP(Entry!D26,Teams!$A$69:$B$78,2,FALSE()),"**ERROR**")) | E25: =IF(D25="","",IF(COUNTIF(D$23:D$29,D25)>1,1,"")) | F25: =IF(Entry!F26="","",IFERROR(VLOOKUP(Entry!F26,Teams!$E$55:$F$64,2,FALSE()),"**ERROR**")) | G25: =IF(F25="","",IF(COUNTIF(F$23:F$29,F25)>1,1,"")) | H25: =IF(Entry!H26="","",IFERROR(VLOOKUP(Entry!H26,Teams!$E$69:$F$78,2,FALSE()),"**ERROR**")) | I25: =IF(H25="","",IF(COUNTIF(H$23:H$29,H25)>1,1,""))
A27: Other teams in bottom 3 | B27: =IF(Entry!B28="","",IFERROR(VLOOKUP(Entry!B28,Teams!$A$55:$B$66,2,FALSE()),"**ERROR**")) | C27: =IF(B27="","",IF(COUNTIF(B$23:B$29,B27)>1,1,"")) | D27: =IF(Entry!D28="","",IFERROR(VLOOKUP(Entry!D28,Teams!$A$69:$B$78,2,FALSE()),"**ERROR**")) | E27: =IF(D27="","",IF(COUNTIF(D$23:D$29,D27)>1,1,"")) | F27: =IF(Entry!F28="","",IFERROR(VLOOKUP(Entry!F28,Teams!$E$55:$F$64,2,FALSE()),"**ERROR**")) | G27: =IF(F27="","",IF(COUNTIF(F$23:F$29,F27)>1,1,"")) | H27: =IF(Entry!H28="","",IFERROR(VLOOKUP(Entry!H28,Teams!$E$69:$F$78,2,FALSE()),"**ERROR**")) | I27: =IF(H27="","",IF(COUNTIF(H$23:H$29,H27)>1,1,""))
A28: get 2 points each. | B28: =IF(Entry!B29="","",IFERROR(VLOOKUP(Entry!B29,Teams!$A$55:$B$66,2,FALSE()),"**ERROR**")) | C28: =IF(B28="","",IF(COUNTIF(B$23:B$29,B28)>1,1,"")) | D28: =IF(Entry!D29="","",IFERROR(VLOOKUP(Entry!D29,Teams!$A$69:$B$78,2,FALSE()),"**ERROR**")) | E28: =IF(D28="","",IF(COUNTIF(D$23:D$29,D28)>1,1,"")) | F28: =IF(Entry!F29="","",IFERROR(VLOOKUP(Entry!F29,Teams!$E$55:$F$64,2,FALSE()),"**ERROR**")) | G28: =IF(F28="","",IF(COUNTIF(F$23:F$29,F28)>1,1,"")) | H28: =IF(Entry!H29="","",IFERROR(VLOOKUP(Entry!H29,Teams!$E$69:$F$78,2,FALSE()),"**ERROR**")) | I28: =IF(H28="","",IF(COUNTIF(H$23:H$29,H28)>1,1,""))
A29: Bottom (3 points) | B29: =IF(Entry!B30="","",IFERROR(VLOOKUP(Entry!B30,Teams!$A$55:$B$66,2,FALSE()),"**ERROR**")) | C29: =IF(B29="","",IF(COUNTIF(B$23:B$29,B29)>1,1,"")) | D29: =IF(Entry!D30="","",IFERROR(VLOOKUP(Entry!D30,Teams!$A$69:$B$78,2,FALSE()),"**ERROR**")) | E29: =IF(D29="","",IF(COUNTIF(D$23:D$29,D29)>1,1,"")) | F29: =IF(Entry!F30="","",IFERROR(VLOOKUP(Entry!F30,Teams!$E$55:$F$64,2,FALSE()),"**ERROR**")) | G29: =IF(F29="","",IF(COUNTIF(F$23:F$29,F29)>1,1,"")) | H29: =IF(Entry!H30="","",IFERROR(VLOOKUP(Entry!H30,Teams!$E$69:$F$78,2,FALSE()),"**ERROR**")) | I29: =IF(H29="","",IF(COUNTIF(H$23:H$29,H29)>1,1,""))
B30: =IF(SUM(C23:C29)>0,"**DUPLICATES**","") | D30: =IF(SUM(E23:E29)>0,"**DUPLICATES**","") | F30: =IF(SUM(G23:G29)>0,"**DUPLICATES**","") | H30: =IF(SUM(I23:I29)>0,"**DUPLICATES**","")
A31: CUPS | B31: English Cups | F31: Scottish Cups
B32: F.A.Cup | D32: League Cup | F32: F.A.Cup | H32: League Cup
A33: Winner (4 points) | B33: =IF(Entry!B34="","",IFERROR(VLOOKUP(Entry!B34,All!$A$2:$B$93,2,FALSE()),"**ERROR**")) | C33: =IF(B33="","",IF(COUNTIF(B$33:B$36,B33)>1,1,"")) | D33: =IF(Entry!D34="","",IFERROR(VLOOKUP(Entry!D34,All!$A$2:$B$93,2,FALSE()),"**ERROR**")) | E33: =IF(D33="","",IF(COUNTIF(D$33:D$36,D33)>1,1,"")) | F33: =IF(Entry!F34="","",IFERROR(VLOOKUP(Entry!F34,All!$A$94:$B$135,2,FALSE()),"**ERROR**")) | G33: =IF(F33="","",IF(COUNTIF(F$33:F$36,F33)>1,1,"")) | H33: =IF(Entry!H34="","",IFERROR(VLOOKUP(Entry!H34,All!$A$94:$B$135,2,FALSE()),"**ERROR**")) | I33: =IF(H33="","",IF(COUNTIF(H$33:H$36,H33)>1,1,""))
A34: Finalist (3 points) | B34: =IF(Entry!B35="","",IFERROR(VLOOKUP(Entry!B35,All!$A$2:$B$93,2,FALSE()),"**ERROR**")) | C34: =IF(B34="","",IF(COUNTIF(B$33:B$36,B34)>1,1,"")) | D34: =IF(Entry!D35="","",IFERROR(VLOOKUP(Entry!D35,All!$A$2:$B$93,2,FALSE()),"**ERROR**")) | E34: =IF(D34="","",IF(COUNTIF(D$33:D$36,D34)>1,1,"")) | F34: =IF(Entry!F35="","",IFERROR(VLOOKUP(Entry!F35,All!$A$94:$B$135,2,FALSE()),"**ERROR**")) | G34: =IF(F34="","",IF(COUNTIF(F$33:F$36,F34)>1,1,"")) | H34: =IF(Entry!H35="","",IFERROR(VLOOKUP(Entry!H35,All!$A$94:$B$135,2,FALSE()),"**ERROR**")) | I34: =IF(H34="","",IF(COUNTIF(H$33:H$36,H34)>1,1,""))
A35: Semi-finalists | B35: =IF(Entry!B36="","",IFERROR(VLOOKUP(Entry!B36,All!$A$2:$B$93,2,FALSE()),"**ERROR**")) | C35: =IF(B35="","",IF(COUNTIF(B$33:B$36,B35)>1,1,"")) | D35: =IF(Entry!D36="","",IFERROR(VLOOKUP(Entry!D36,All!$A$2:$B$93,2,FALSE()),"**ERROR**")) | E35: =IF(D35="","",IF(COUNTIF(D$33:D$36,D35)>1,1,"")) | F35: =IF(Entry!F36="","",IFERROR(VLOOKUP(Entry!F36,All!$A$94:$B$135,2,FALSE()),"**ERROR**")) | G35: =IF(F35="","",IF(COUNTIF(F$33:F$36,F35)>1,1,"")) | H35: =IF(Entry!H36="","",IFERROR(VLOOKUP(Entry!H36,All!$A$94:$B$135,2,FALSE()),"**ERROR**")) | I35: =IF(H35="","",IF(COUNTIF(H$33:H$36,H35)>1,1,""))
A36: 2 points each. | B36: =IF(Entry!B37="","",IFERROR(VLOOKUP(Entry!B37,All!$A$2:$B$93,2,FALSE()),"**ERROR**")) | C36: =IF(B36="","",IF(COUNTIF(B$33:B$36,B36)>1,1,"")) | D36: =IF(Entry!D37="","",IFERROR(VLOOKUP(Entry!D37,All!$A$2:$B$93,2,FALSE()),"**ERROR**")) | E36: =IF(D36="","",IF(COUNTIF(D$33:D$36,D36)>1,1,"")) | F36: =IF(Entry!F37="","",IFERROR(VLOOKUP(Entry!F37,All!$A$94:$B$135,2,FALSE()),"**ERROR**")) | G36: =IF(F36="","",IF(COUNTIF(F$33:F$36,F36)>1,1,"")) | H36: =IF(Entry!H37="","",IFERROR(VLOOKUP(Entry!H37,All!$A$94:$B$135,2,FALSE()),"**ERROR**")) | I36: =IF(H36="","",IF(COUNTIF(H$33:H$36,H36)>1,1,""))
B37: =IF(SUM(C33:C36)>0,"**DUPLICATES**","") | D37: =IF(SUM(E33:E36)>0,"**DUPLICATES**","") | F37: =IF(SUM(G33:G36)>0,"**DUPLICATES**","") | H37: =IF(SUM(I33:I36)>0,"**DUPLICATES**","")

Sheet All
A1: Team Number | B1: Team Name | C1: League/Cup Number | D1: League
A2: 2 | B2: Accrington Stanley | C2: 4 | D2: English League Two
A3: 11 | B3: Arsenal | C3: 1 | D3: English Premier
A4: 12 | B4: Aston Villa | C4: 1 | D4: English Premier
A5: 20 | B5: Barrow | C5: 4 | D5: English League Two
A6: 21 | B6: Barnet | C6: 4 | D6: English League Two
A7: 22 | B7: Barnsley | C7: 3 | D7: English League One
A8: 23 | B8: Blackpool | C8: 3 | D8: English League One
A9: 28 | B9: Blackburn Rovers | C9: 2 | D9: English Championship
A10: 29 | B10: Birmingham City | C10: 2 | D10: English Championship
A11: 30 | B11: Bradford City | C11: 3 | D11: English League One
A12: 32 | B12: Brentford | C12: 1 | D12: English Premier
A13: 33 | B13: Brighton & Hove Albion | C13: 1 | D13: English Premier
... A135: 372 | B135: St. Mirren | C135: 5 | D135: Scottish Premier

Sheet Soccer Comp Entry Form 2025-26
A1: =Check!$B$6 | B1: 1 | C1: =Entry!$B$12 -> 0 | D1: =Entry!$B$13 -> 0 | E1: =Entry!$B$14 -> 0 | F1: =Entry!$B$15 -> 0 | G1: =Entry!$B$17 -> 0 | H1: =Entry!$B$18 -> 0 | I1: =Entry!$B$19 -> 0 | J1: =Entry!$B$20 -> 0
A2: =Check!$B$6 | B2: 2 | C2: =Entry!$D$12 -> 0 | D2: =Entry!$D$13 -> 0 | E2: =Entry!$D$14 -> 0 | F2: =Entry!$D$15 -> 0 | G2: =Entry!$D$17 -> 0 | H2: =Entry!$D$18 -> 0 | I2: =Entry!$D$19 -> 0 | J2: =Entry!$D$20 -> 0
A3: =Check!$B$6 | B3: 3 | C3: =Entry!$F$12 -> 0 | D3: =Entry!$F$13 -> 0 | E3: =Entry!$F$14 -> 0 | F3: =Entry!$F$15 -> 0 | G3: =Entry!$F$17 -> 0 | H3: =Entry!$F$18 -> 0 | I3: =Entry!$F$19 -> 0 | J3: =Entry!$F$20 -> 0
A4: =Check!$B$6 | B4: 4 | C4: =Entry!$H$12 -> 0 | D4: =Entry!$H$13 -> 0 | E4: =Entry!$H$14 -> 0 | F4: =Entry!$H$15 -> 0 | G4: =Entry!$H$17 -> 0 | H4: =Entry!$H$18 -> 0 | I4: =Entry!$H$19 -> 0 | J4: =Entry!$H$20 -> 0
A5: =Check!$B$6 | B5: 5 | C5: =Entry!$B$24 -> 0 | D5: =Entry!$B$25 -> 0 | E5: =Entry!$B$26 -> 0 | F5: 0 | G5: 0 | H5: =Entry!$B$28 -> 0 | I5: =Entry!$B$29 -> 0 | J5: =Entry!$B$30 -> 0
A6: =Check!$B$6 | B6: 6 | C6: =Entry!$D$24 -> 0 | D6: =Entry!$D$25 -> 0 | E6: =Entry!$D$26 -> 0 | F6: 0 | G6: 0 | H6: =Entry!$D$28 -> 0 | I6: =Entry!$D$29 -> 0 | J6: =Entry!$D$30 -> 0
A7: =Check!$B$6 | B7: 7 | C7: =Entry!$F$24 -> 0 | D7: =Entry!$F$25 -> 0 | E7: =Entry!$F$26 -> 0 | F7: 0 | G7: 0 | H7: =Entry!$F$28 -> 0 | I7: =Entry!$F$29 -> 0 | J7: =Entry!$F$30 -> 0
A8: =Check!$B$6 | B8: 8 | C8: =Entry!$H$24 -> 0 | D8: =Entry!$H$25 -> 0 | E8: =Entry!$H$26 -> 0 | F8: 0 | G8: 0 | H8: =Entry!$H$28 -> 0 | I8: =Entry!$H$29 -> 0 | J8: =Entry!$H$30 -> 0
A9: =Check!$B$6 | B9: 9 | C9: =Entry!$B$34 -> 0 | D9: =Entry!$B$35 -> 0 | E9: =Entry!$B$36 -> 0 | F9: =Entry!$B$37 -> 0 | G9: 0 | H9: 0 | I9: 0 | J9: 0
A10: =Check!$B$6 | B10: 10 | C10: =Entry!$D$34 -> 0 | D10: =Entry!$D$35 -> 0 | E10: =Entry!$D$36 -> 0 | F10: =Entry!$D$37 -> 0 | G10: 0 | H10: 0 | I10: 0 | J10: 0
A11: =Check!$B$6 | B11: 11 | C11: =Entry!$F$34 -> 0 | D11: =Entry!$F$35 -> 0 | E11: =Entry!$F$36 -> 0 | F11: =Entry!$F$37 -> 0 | G11: 0 | H11: 0 | I11: 0 | J11: 0
A12: =Check!$B$6 | B12: 12 | C12: =Entry!$H$34 -> 0 | D12: =Entry!$H$35 -> 0 | E12: =Entry!$H$36 -> 0 | F12: =Entry!$H$37 -> 0 | G12: 0 | H12: 0 | I12: 0 | J12: 0
